Workbook

Sheet Instructions
B10: Staff Costs Tab
B11: This tab is meant to ensure you are clearly indicating which staff will work on the project, what their daily rates are, and how many days they intend
B12: to dedicate to each phase of the project
B13: 1. Enter your organisation and project details.
B14: 2. In rows 8 and 9, replace the content in brackets with the title of the individual who will work on the phase and their name
B15: 3. In row 10 replace the 0 value with the corresponding daily rate of the individual in pounds (no decimal points)
B16: 4. In column B we would like you to describe the phases - in the blue cells, replace "[Title]" with the title of the phase (e.g., 'set up and protocol drafting' or 'evidence review' etc.);
B17: then replace "[Date-date]" with the start and end date in month and year. For each activity, along the row, indicate the number of days each
B18: individual assigned to the project will work on that activity. If the individual won't work on that activity, leave the cell blank. Feel free to add or delete phases according to your project.
B19: 5. The total days for the phase and the total cost will calculate automatically
B20: 6. Continue this for each phase of the project
B21: 7. Please ensure that none of the 'checks' on the sheet are showing red before you submit your budget to YEF
... B46: 3. In column D, please provide a brief explanation as to how the unit cost was determined and how you know the cost is reasonable

Sheet Staff Costs
B2: Organisation Name:
B3: Project Title:
B4: Project Period of Performance
B5: Key Contact Name:
B7: STAFF COSTS | M7: TOTAL
B8: Position | C8: [Title 1] | D8: [Title 2] | E8: [Title 3] | F8: [Title 4] | G8: [Title 5] | H8: [Title 6] | I8: [Title 7] | J8: [Title 8] | K8: [Title 9] | L8: [Title 10]
B9: Name | C9: [Name] | D9: [Name] | E9: [Name] | F9: [Name] | G9: [Name] | H9: [Name] | I9: [Name] | J9: [Name] | K9: [Name] | L9: [Name]
B10: Daily Rate | C10: 0 | D10: 0 | E10: 0 | F10: 0 | G10: 0 | H10: 0 | I10: 0 | J10: 0 | K10: 0 | L10: 0
B11: 1. PHASE ONE: [TITLE]
B12: Phase Length: [Date - Date]
B13: [Activity] | M13: =SUM(C13:L13) -> 0
B14: [Activity] | M14: =SUM(C14:L14) -> 0
B15: [Activity] | M15: =SUM(C15:L15) -> 0
B16: [Activity] | M16: =SUM(C16:L16) -> 0
B17: [Activity] | M17: =SUM(C17:L17) -> 0
B18: [Activity] | M18: =SUM(C18:L18) -> 0
B19: Total days for this phase | C19: =SUM(C13:C18) -> 0 | D19: =SUM(D13:D18) -> 0 | E19: =SUM(E13:E18) -> 0 | F19: =SUM(F13:F18) -> 0 | G19: =SUM(G13:G18) -> 0 | H19: =SUM(H13:H18) -> 0 | I19: =SUM(I13:I18) -> 0 | J19: =SUM(J13:J18) -> 0 | ... M19: =SUM(M13:M18) -> 0
B20: Total cost for this phase | C20: =C19*C$10 -> 0 | D20: =D19*D$10 -> 0 | E20: =E19*E$10 -> 0 | F20: =F19*F$10 -> 0 | G20: =G19*G$10 -> 0 | H20: =H19*H$10 -> 0 | I20: =I19*I$10 -> 0 | J20: =J19*J$10 -> 0 | ... L20: =L19*L$10 -> 0 | M20: =SUM(C20:L20) -> 0
B21: 2. PHASE TWO: [TITLE]
B22: Phase Length: [Date - Date]
B23: [Activity] | M23: =SUM(C23:L23) -> 0
B24: [Activity] | M24: =SUM(C24:L24) -> 0
B25: [Activity] | M25: =SUM(C25:L25) -> 0
B26: [Activity] | M26: =SUM(C26:L26) -> 0
B27: [Activity] | M27: =SUM(C27:L27) -> 0
B28: [Activity] | M28: =SUM(C28:L28) -> 0
B29: Total days for this phase | C29: =SUM(C23:C28) -> 0 | D29: =SUM(D23:D28) -> 0 | E29: =SUM(E23:E28) -> 0 | F29: =SUM(F23:F28) -> 0 | G29: =SUM(G23:G28) -> 0 | H29: =SUM(H23:H28) -> 0 | I29: =SUM(I23:I28) -> 0 | J29: =SUM(J23:J28) -> 0 | ... M29: =SUM(M23:M28) -> 0
B30: Total cost for this phase | C30: =C29*C$10 -> 0 | D30: =D29*D$10 -> 0 | E30: =E29*E$10 -> 0 | F30: =F29*F$10 -> 0 | G30: =G29*G$10 -> 0 | H30: =H29*H$10 -> 0 | I30: =I29*I$10 -> 0 | J30: =J29*J$10 -> 0 | ... L30: =L29*L$10 -> 0 | M30: =SUM(C30:L30) -> 0
B31: 3. PHASE THREE: [TITLE]
B32: Phase Length: [Date - Date]
B33: [Activity] | M33: =SUM(C33:L33) -> 0
B34: [Activity] | M34: =SUM(C34:L34) -> 0
B35: [Activity] | M35: =SUM(C35:L35) -> 0
B36: [Activity] | M36: =SUM(C36:L36) -> 0
B37: [Activity] | M37: =SUM(C37:L37) -> 0
B38: [Activity] | M38: =SUM(C38:L38) -> 0
B39: Total days for this phase | C39: =SUM(C33:C38) -> 0 | D39: =SUM(D33:D38) -> 0 | E39: =SUM(E33:E38) -> 0 | F39: =SUM(F33:F38) -> 0 | G39: =SUM(G33:G38) -> 0 | H39: =SUM(H33:H38) -> 0 | I39: =SUM(I33:I38) -> 0 | J39: =SUM(J33:J38) -> 0 | ... M39: =SUM(M33:M38) -> 0
B40: Total cost for this phase | C40: =C39*C$10 -> 0 | D40: =D39*D$10 -> 0 | E40: =E39*E$10 -> 0 | F40: =F39*F$10 -> 0 | G40: =G39*G$10 -> 0 | H40: =H39*H$10 -> 0 | I40: =I39*I$10 -> 0 | J40: =J39*J$10 -> 0 | ... L40: =L39*L$10 -> 0 | M40: =SUM(C40:L40) -> 0
B41: 4. PHASE FOUR: [TITLE]
B42: Phase Length: [Date - Date]
...

Sheet Total Costs
B2: ='Staff Costs'!B2 -> Organisation Name:
B3: ='Staff Costs'!B3 -> Project Title:
B4: ='Staff Costs'!B4 -> Project Period of Performance
B5: ='Staff Costs'!B5 -> Key Contact Name:
F6: ='Staff Costs'!B11 -> 1. PHASE ONE: [TITLE] | G6: ='Staff Costs'!B21 -> 2. PHASE TWO: [TITLE] | H6: ='Staff Costs'!B31 -> 3. PHASE THREE: [TITLE] | I6: ='Staff Costs'!B41 -> 4. PHASE FOUR: [TITLE] | J6: ='Staff Costs'!B51 -> 5. PHASE FIVE: [TITLE]
C7: Unit Type | D7: # of Units | E7: Unit Value | F7: ='Staff Costs'!B12 -> Phase Length: [Date - Date] | G7: ='Staff Costs'!B22 -> Phase Length: [Date - Date] | H7: ='Staff Costs'!B32 -> Phase Length: [Date - Date] | I7: ='Staff Costs'!B42 -> Phase Length: [Date - Date] | J7: ='Staff Costs'!B52 -> Phase Length: [Date - Date]
B8: 1. Staff Costs | K8: TOTAL
B9: Staff Costs | C9: Days | D9: ='Staff Costs'!M62 -> 0 | E9: Variable | F9: ='Staff Costs'!M20 -> 0 | G9: ='Staff Costs'!M30 -> 0 | H9: ='Staff Costs'!M40 -> 0 | I9: ='Staff Costs'!M50 -> 0 | J9: ='Staff Costs'!M60 -> 0 | K9: =SUM(F9:J9) -> 0
B10: Total Staff Costs | F10: =F9 -> 0 | G10: =G9 -> 0 | H10: =H9 -> 0 | I10: =I9 -> 0 | J10: =J9 -> 0 | K10: =SUM(F10:J10) -> 0
B12: 2. Travel Costs
A13: 2.1 | B13: [Other] | K13: =SUM(F13:J13) -> 0
A14: =A13+0.1 -> 2.2 | B14: [Other] | K14: =SUM(F14:J14) -> 0
A15: =A14+0.1 -> 2.3 | B15: [Other] | K15: =SUM(F15:J15) -> 0
A16: =A15+0.1 -> 2.4 | B16: [Other] | K16: =SUM(F16:J16) -> 0
A17: =A16+0.1 -> 2.5 | B17: [Other] | K17: =SUM(F17:J17) -> 0
A18: =A17+0.1 -> 2.6 | B18: [Other] | K18: =SUM(F18:J18) -> 0
A19: =A18+0.1 -> 2.7 | B19: [Other] | K19: =SUM(F19:J19) -> 0
B20: Total Travel Costs | F20: =SUM(F13:F19) -> 0 | G20: =SUM(G13:G19) -> 0 | H20: =SUM(H13:H19) -> 0 | I20: =SUM(I13:I19) -> 0 | J20: =SUM(J13:J19) -> 0 | K20: =SUM(K13:K19) -> 0
B22: 3. Other Direct Costs
A23: 3.1 | B23: [Other] | K23: =SUM(F23:J23) -> 0
A24: =A23+0.1 -> 3.2 | B24: [Other] | K24: =SUM(F24:J24) -> 0
A25: =A24+0.1 -> 3.3 | B25: [Other] | K25: =SUM(F25:J25) -> 0
A26: =A25+0.1 -> 3.4 | B26: [Other] | K26: =SUM(F26:J26) -> 0
A27: =A26+0.1 -> 3.5 | B27: [Other] | K27: =SUM(F27:J27) -> 0
A28: =A27+0.1 -> 3.6 | B28: [Other] | K28: =SUM(F28:J28) -> 0
A29: =A28+0.1 -> 3.7 | B29: [Other] | K29: =SUM(F29:J29) -> 0
A30: =A29+0.1 -> 3.8 | B30: [Other] | K30: =SUM(F30:J30) -> 0
A31: =A30+0.1 -> 3.9 | B31: [Other] | K31: =SUM(F31:J31) -> 0
B32: Total Direct Costs | F32: =SUM(F23:F31) -> 0 | G32: =SUM(G23:G31) -> 0 | H32: =SUM(H23:H31) -> 0 | I32: =SUM(I23:I31) -> 0 | J32: =SUM(J23:J31) -> 0 | K32: =SUM(K23:K31) -> 0
B34: Subtotal | F34: =F32+F20+F10 -> 0 | G34: =G32+G20+G10 -> 0 | H34: =H32+H20+H10 -> 0 | I34: =I32+I20+I10 -> 0 | J34: =J32+J20+J10 -> 0 | K34: =K32+K20+K10 -> 0
B35: VAT (applicable to direct costs only) | K35: =SUM(F35:J35) -> 0
B36: Total | F36: =F35+F34 -> 0 | G36: =G35+G34 -> 0 | H36: =H35+H34 -> 0 | I36: =I35+I34 -> 0 | J36: =J35+J34 -> 0 | K36: =SUM(F36:J36) -> 0

Sheet Budget Narrative
B2: ='Staff Costs'!B2 -> Organisation Name:
B3: ='Staff Costs'!B3 -> Project Title:
B4: ='Staff Costs'!B4 -> Project Period of Performance
B5: ='Staff Costs'!B5 -> Key Contact Name:
B7: Budget Category | C7: Budget Narrative | D7: Unit Cost Explanation
B8: 1. Staff Costs | C8: Please provide an explanation as to why the expense is necessary to carry out the project | D8: How was the unit cost determined and how do you know it is a reasonable cost?
A9: 1.1 | B9: ='Staff Costs'!C8 -> [Title 1]
A10: =A9+0.1 -> 1.2 | B10: ='Staff Costs'!D8 -> [Title 2]
A11: =A10+0.1 -> 1.3 | B11: ='Staff Costs'!E8 -> [Title 3]
A12: =A11+0.1 -> 1.4 | B12: ='Staff Costs'!F8 -> [Title 4]
A13: =A12+0.1 -> 1.5 | B13: ='Staff Costs'!G8 -> [Title 5]
A14: =A13+0.1 -> 1.6 | B14: ='Staff Costs'!H8 -> [Title 6]
A15: =A14+0.1 -> 1.7 | B15: ='Staff Costs'!I8 -> [Title 7]
A16: =A15+0.1 -> 1.8 | B16: ='Staff Costs'!J8 -> [Title 8]
A17: =A16+0.1 -> 1.9 | B17: ='Staff Costs'!K8 -> [Title 9]
A18: =A17+0.1 -> 2 | B18: ='Staff Costs'!L8 -> [Title 10]
B20: 2. Travel Costs
A21: 2.1 | B21: ='Total Costs'!B13 -> [Other]
A22: =A21+0.1 -> 2.2 | B22: ='Total Costs'!B14 -> [Other]
A23: =A22+0.1 -> 2.3 | B23: ='Total Costs'!B15 -> [Other]
A24: =A23+0.1 -> 2.4 | B24: ='Total Costs'!B16 -> [Other]
A25: =A24+0.1 -> 2.5 | B25: ='Total Costs'!B17 -> [Other]
A26: =A25+0.1 -> 2.6 | B26: ='Total Costs'!B18 -> [Other]
A27: =A26+0.1 -> 2.7 | B27: ='Total Costs'!B19 -> [Other]
B29: 3. Other Direct Costs
A30: 3.1 | B30: ='Total Costs'!B23 -> [Other]
A31: =A30+0.1 -> 3.2 | B31: ='Total Costs'!B24 -> [Other]
A32: =A31+0.1 -> 3.3 | B32: ='Total Costs'!B25 -> [Other]
A33: =A32+0.1 -> 3.4 | B33: ='Total Costs'!B26 -> [Other]
A34: =A33+0.1 -> 3.5 | B34: ='Total Costs'!B27 -> [Other]
A35: =A34+0.1 -> 3.6 | B35: ='Total Costs'!B28 -> [Other]
A36: =A35+0.1 -> 3.7 | B36: ='Total Costs'!B29 -> [Other]
A37: =A36+0.1 -> 3.8 | B37: ='Total Costs'!B30 -> [Other]
A38: =A37+0.1 -> 3.9 | B38: ='Total Costs'!B31 -> [Other]

Sheet Staff Costs - Example
B2: Organisation Name: University of Borough
B3: Project Title: A practice and evidence review of youth clubs’ role in supporting children who are involved in violence in England and Wales.
B4: Project Period of Performance: May 2023 - September 2024
B5: Key Contact Name: Amitha Vikram
B7: STAFF COSTS | K7: TOTAL
B8: Position | C8: Director of Research | D8: Research Manager | E8: Evaluation Assistant | F8: [Title 4] | G8: [Title 5] | H8: [Title 6] | I8: [Title 7] | J8: [Title 8]
B9: Name | C9: Amitha Vikram | D9: Sarah Aims | E9: John Silver | F9: [Name] | G9: [Name] | H9: [Name] | I9: [Name] | J9: [Name]
B10: Daily Rate | C10: 600 | D10: 400 | E10: 300 | F10: 0 | G10: 0 | H10: 0 | I10: 0 | J10: 0
B11: 1. PHASE ONE: Set up and protocol drafting
B12: Phase Length: May 2023 - August 2023
B13: Preparing for and attending planning meetings | C13: 4 | D13: 3 | E13: 3 | K13: =SUM(C13:J13) -> 10
B14: Writing protocol for evidence review | C14: 10 | D14: 2 | K14: =SUM(C14:J14) -> 12
B15: Set up database | D15: 6 | E15: 6 | K15: =SUM(C15:J15) -> 12
B16: [Activity] | K16: =SUM(C16:J16) -> 0
B17: [Activity] | K17: =SUM(C17:J17) -> 0
B18: [Activity] | K18: =SUM(C18:J18) -> 0
B19: Total days for this phase | C19: =SUM(C13:C18) -> 14 | D19: =SUM(D13:D18) -> 11 | E19: =SUM(E13:E18) -> 9 | F19: =SUM(F13:F18) -> 0 | G19: =SUM(G13:G18) -> 0 | H19: =SUM(H13:H18) -> 0 | I19: =SUM(I13:I18) -> 0 | J19: =SUM(J13:J18) -> 0 | K19: =SUM(K13:K18) -> 34
B20: Total cost for this phase | C20: =C19*C$10 -> 8400 | D20: =D19*D$10 -> 4400 | E20: =E19*E$10 -> 2700 | F20: =F19*F$10 -> 0 | G20: =G19*G$10 -> 0 | H20: =H19*H$10 -> 0 | I20: =I19*I$10 -> 0 | J20: =J19*J$10 -> 0 | K20: =SUM(C20:J20) -> 15500
B21: 2. PHASE TWO: [TITLE]
B22: Phase Length: [Date - Date]
B23: [Activity] | K23: =SUM(C23:J23) -> 0
B24: [Activity] | K24: =SUM(C24:J24) -> 0
B25: [Activity] | K25: =SUM(C25:J25) -> 0
B26: [Activity] | K26: =SUM(C26:J26) -> 0
B27: [Activity] | K27: =SUM(C27:J27) -> 0
B28: [Activity] | K28: =SUM(C28:J28) -> 0
B29: Total days for this phase | C29: =SUM(C23:C28) -> 0 | D29: =SUM(D23:D28) -> 0 | E29: =SUM(E23:E28) -> 0 | F29: =SUM(F23:F28) -> 0 | G29: =SUM(G23:G28) -> 0 | H29: =SUM(H23:H28) -> 0 | I29: =SUM(I23:I28) -> 0 | J29: =SUM(J23:J28) -> 0 | K29: =SUM(K23:K28) -> 0
B30: Total cost for this phase | C30: =C29*C$10 -> 0 | D30: =D29*D$10 -> 0 | E30: =E29*E$10 -> 0 | F30: =F29*F$10 -> 0 | G30: =G29*G$10 -> 0 | H30: =H29*H$10 -> 0 | I30: =I29*I$10 -> 0 | J30: =J29*J$10 -> 0 | K30: =SUM(C30:J30) -> 0
B31: 3. PHASE THREE: [TITLE]
B32: Phase Length: [Date - Date]
B33: [Activity] | K33: =SUM(C33:J33) -> 0
B34: [Activity] | K34: =SUM(C34:J34) -> 0
B35: [Activity] | K35: =SUM(C35:J35) -> 0
B36: [Activity] | K36: =SUM(C36:J36) -> 0
B37: [Activity] | K37: =SUM(C37:J37) -> 0
B38: [Activity] | K38: =SUM(C38:J38) -> 0
B39: Total days for this phase | C39: =SUM(C33:C38) -> 0 | D39: =SUM(D33:D38) -> 0 | E39: =SUM(E33:E38) -> 0 | F39: =SUM(F33:F38) -> 0 | G39: =SUM(G33:G38) -> 0 | H39: =SUM(H33:H38) -> 0 | I39: =SUM(I33:I38) -> 0 | J39: =SUM(J33:J38) -> 0 | K39: =SUM(K33:K38) -> 0
B40: Total cost for this phase | C40: =C39*C$10 -> 0 | D40: =D39*D$10 -> 0 | E40: =E39*E$10 -> 0 | F40: =F39*F$10 -> 0 | G40: =G39*G$10 -> 0 | H40: =H39*H$10 -> 0 | I40: =I39*I$10 -> 0 | J40: =J39*J$10 -> 0 | K40: =SUM(C40:J40) -> 0
B41: 4. PHASE FOUR: [TITLE]
B42: Phase Length: [Date - Date]
...

Sheet Total Costs - Example
B2: ='Staff Costs - Example'!B2 -> Organisation Name: University of Borough
B3: ='Staff Costs - Example'!B3 -> Project Title: A practice and evidence review of youth clubs’ role in supporting children who are involved in violence in England and Wales.
B4: ='Staff Costs - Example'!B4 -> Project Period of Performance: May 2023 - September 2024
B5: ='Staff Costs - Example'!B5 -> Key Contact Name: Amitha Vikram
F6: ='Staff Costs'!B11 -> 1. PHASE ONE: [TITLE] | G6: ='Staff Costs'!B21 -> 2. PHASE TWO: [TITLE] | H6: ='Staff Costs'!B31 -> 3. PHASE THREE: [TITLE] | I6: ='Staff Costs'!B41 -> 4. PHASE FOUR: [TITLE] | J6: ='Staff Costs'!B51 -> 5. PHASE FIVE: [TITLE]
C7: Unit Type | D7: # of Units | E7: Unit Value | F7: ='Staff Costs'!B12 -> Phase Length: [Date - Date] | G7: ='Staff Costs'!B22 -> Phase Length: [Date - Date] | H7: ='Staff Costs'!B32 -> Phase Length: [Date - Date] | I7: ='Staff Costs'!B42 -> Phase Length: [Date - Date] | J7: ='Staff Costs'!B52 -> Phase Length: [Date - Date]
B8: 1. Staff Costs | K8: TOTAL
B9: Staff Costs | C9: Days | D9: ='Staff Costs'!M62 -> 0 | E9: Variable | F9: ='Staff Costs'!M20 -> 0 | G9: ='Staff Costs'!M30 -> 0 | H9: ='Staff Costs'!M40 -> 0 | I9: ='Staff Costs'!M50 -> 0 | J9: ='Staff Costs'!M60 -> 0 | K9: =SUM(F9:J9) -> 0
B10: Total Staff Costs | F10: =F9 -> 0 | G10: =G9 -> 0 | H10: =H9 -> 0 | I10: =I9 -> 0 | J10: =J9 -> 0 | K10: =SUM(F10:J10) -> 0
B12: 2. Travel Costs
A13: 2.1 | B13: [Travel to London for Kick-off meetings] | C13: Ticket | D13: 4 | E13: 80 | F13: =E13*D13 -> 320 | K13: =SUM(F13:J13) -> 320
A14: =A13+0.1 -> 2.2 | B14: [Subsistence and accommodation for travel to London] | C14: Days | D14: 12 | E14: 200 | F14: =E14*D14 -> 2400 | K14: =SUM(F14:J14) -> 2400
A15: =A14+0.1 -> 2.3 | B15: [Travel to London for closeout meetings] | C15: Ticket | D15: 4 | E15: 80 | J15: =E15*D15 -> 320 | K15: =SUM(F15:J15) -> 320
A16: =A15+0.1 -> 2.4 | B16: [Subsistence and accommodation for travel to London] | C16: Days | D16: 12 | E16: 200 | J16: =E16*D16 -> 2400 | K16: =SUM(F16:J16) -> 2400
A17: =A16+0.1 -> 2.5 | B17: [Other] | K17: =SUM(F17:J17) -> 0
A18: =A17+0.1 -> 2.6 | B18: [Other] | K18: =SUM(F18:J18) -> 0
A19: =A18+0.1 -> 2.7 | B19: [Other] | K19: =SUM(F19:J19) -> 0
B20: Total Travel Costs | F20: =SUM(F13:F19) -> 2720 | G20: =SUM(G13:G19) -> 0 | H20: =SUM(H13:H19) -> 0 | I20: =SUM(I13:I19) -> 0 | J20: =SUM(J13:J19) -> 2720 | K20: =SUM(K13:K19) -> 5440
B22: 3. Other Direct Costs
A23: 3.1 | B23: [Phone costs] | C23: Month | D23: 10 | E23: 15 | F23: =($E$23*$D$23)/5 -> 30 | G23: =($E$23*$D$23)/5 -> 30 | H23: =($E$23*$D$23)/5 -> 30 | I23: =($E$23*$D$23)/5 -> 30 | J23: =($E$23*$D$23)/5 -> 30 | K23: =SUM(F23:J23) -> 150
A24: =A23+0.1 -> 3.2 | B24: [Refreshments for participants in kick off meeting] | C24: Person | D24: 50 | E24: 20 | F24: =E24*D24 -> 1000 | K24: =SUM(F24:J24) -> 1000
A25: =A24+0.1 -> 3.3 | B25: [Other] | K25: =SUM(F25:J25) -> 0
A26: =A25+0.1 -> 3.4 | B26: [Other] | K26: =SUM(F26:J26) -> 0
A27: =A26+0.1 -> 3.5 | B27: [Other] | K27: =SUM(F27:J27) -> 0
A28: =A27+0.1 -> 3.6 | B28: [Other] | K28: =SUM(F28:J28) -> 0
A29: =A28+0.1 -> 3.7 | B29: [Other] | K29: =SUM(F29:J29) -> 0
A30: =A29+0.1 -> 3.8 | B30: [Other] | K30: =SUM(F30:J30) -> 0
A31: =A30+0.1 -> 3.9 | B31: [Other] | K31: =SUM(F31:J31) -> 0
B32: Total Direct Costs | F32: =SUM(F23:F31) -> 1030 | G32: =SUM(G23:G31) -> 30 | H32: =SUM(H23:H31) -> 30 | I32: =SUM(I23:I31) -> 30 | J32: =SUM(J23:J31) -> 30 | K32: =SUM(K23:K31) -> 1150
K33: =SUM(F33:J33) -> 0
B34: Subtotal | F34: =F32+F20+F10 -> 3750 | G34: =G32+G20+G10 -> 30 | H34: =H32+H20+H10 -> 30 | I34: =I32+I20+I10 -> 30 | J34: =J32+J20+J10 -> 2750 | K34: =K32+K20+K10 -> 6590
B35: VAT | K35: =SUM(F35:J35) -> 0
B36: Total | F36: =F35+F34 -> 3750 | G36: =G35+G34 -> 30 | H36: =H35+H34 -> 30 | I36: =I35+I34 -> 30 | J36: =J35+J34 -> 2750 | K36: =SUM(F36:J36) -> 6590

Sheet Summary
A1: [TITLE]
A2: [Funder]
A3: [start date] - [end date]
A4: [pfact ID]
A6: STAFF | D6: Year 1 | E6: Year 2 | F6: %FTE | H6: Year 1 | I6: Year 2 | J6: Total
B7: Name | C7: Role | D7: Time | E7: Time | F7: (Database) | H7: Cost | I7: Cost | J7: Cost
C8: PI | J8: =SUM(H8:I8) -> 0
C9: CI | J9: =SUM(H9:I9) -> 0
J10: =SUM(H10:I10) -> 0
J11: =SUM(H11:I11) -> 0
J12: =SUM(H12:I12) -> 0
J13: =SUM(H13:I13) -> 0
J14: =SUM(H14:I14) -> 0
A15: TOTAL STAFF | H15: =SUBTOTAL(9,H8:H14) -> 0 | I15: =SUBTOTAL(9,I8:I14) -> 0 | J15: =SUBTOTAL(9,J8:J14) -> 0
A17: NON-STAFF
A18: Conference costs | J18: =SUM(H18:I18) -> 0
J19: =SUM(H19:I19) -> 0
A20: Consumables | J20: =SUM(H20:I20) -> 0
J21: =SUM(H21:I21) -> 0
A22: External Services | J22: =SUM(H22:I22) -> 0
J23: =SUM(H23:I23) -> 0
A24: Non-UK travel/subsistence | J24: =SUM(H24:I24) -> 0
J25: =SUM(H25:I25) -> 0
A26: Publications | J26: =SUM(H26:I26) -> 0
J27: =SUM(H27:I27) -> 0
A28: Student costs | J28: =SUM(H28:I28) -> 0
J29: =SUM(H29:I29) -> 0
A30: Subcontractor costs | J30: =SUM(H30:I30) -> 0
J31: =SUM(H31:I31) -> 0
A32: UK hotel accommodation | J32: =SUM(H32:I32) -> 0
J33: =SUM(H33:I33) -> 0
A34: UK travel - air | J34: =SUM(H34:I34) -> 0
A35: UK travel - mileage | J35: =SUM(H35:I35) -> 0
A36: UK travel - rail | J36: =SUM(H36:I36) -> 0
A37: UK travel - general | J37: =SUM(H37:I37) -> 0
J38: =SUM(H38:I38) -> 0
A39: TOTAL NON-STAFF | H39: =SUBTOTAL(9,H22:H38) -> 0 | I39: =SUBTOTAL(9,I22:I38) -> 0 | J39: =SUBTOTAL(9,J22:J38) -> 0
A41: Total Direct Costs | H41: =SUBTOTAL(9,H8:H40) -> 0 | I41: =SUBTOTAL(9,I8:I40) -> 0 | J41: =SUBTOTAL(9,J8:J40) -> 0
A43: OVERHEADS | B43: Estates | J43: =SUM(H43:I43) -> 0
B44: Indirects | J44: =SUM(H44:I44) -> 0
...
